Workbook
Name _: #REF!
Name _: #REF!
Name ____xlnm.Print_Area_1: #REF!
Name ____xlnm.Print_Area_1: #REF!
Name ___xlnm.Print_Area_1: #REF!
Name ___xlnm.Print_Area_1: #REF!
Name ___xlnm.Print_Area_2: #REF!
Name ___xlnm.Print_Area_2: #REF!
Name __xlnm.Print_Area_2: #REF!
Name __xlnm.Print_Area_2: #REF!
Name _Toc68074065: SPLOŠNO!#REF!
Name BETONSKA: '[1]ENERGETSKA SANACIJA '!#REF!
Name BETONSKA: '[1]ENERGETSKA SANACIJA '!#REF!
Name BETONSKA.: '[1]ENERGETSKA SANACIJA '!#REF!
Name BETONSKA.: '[1]ENERGETSKA SANACIJA '!#REF!
Name BETONSKA_: '[1]ENERGETSKA SANACIJA '!#REF!
Name BETONSKA_: '[1]ENERGETSKA SANACIJA '!#REF!
Name BETONSKA_.: '[1]ENERGETSKA SANACIJA '!#REF!
Name BETONSKA_.: '[1]ENERGETSKA SANACIJA '!#REF!
Name gd: #REF!
Name gd: #REF!
Name gd.: #REF!
Name gd.: #REF!
Name gd..: #REF!
Name gd..: #REF!
Name gd_: #REF!
Name gd_: #REF!
Name gd_.: #REF!
Name gd_.: #REF!
Name KROVSKA: #REF!
Name KROVSKA: #REF!
Name KROVSKA.: #REF!
Name KROVSKA.: #REF!
Name KROVSKA..: #REF!
Name KROVSKA..: #REF!
Name KROVSKA_: #REF!
Name KROVSKA_: #REF!
Name KROVSKA_.: #REF!
Name KROVSKA_.: #REF!
Name oznnaka1: #REF!
Name oznnaka1: #REF!
Name oznnaka1..: #REF!
Name S: #REF!
Name S: #REF!
Name sd: #REF!
Name sd: #REF!
Name sf: #REF!
Name sf: #REF!
Name sg: '[1]ENERGETSKA SANACIJA '!#REF!
Name sg: '[1]ENERGETSKA SANACIJA '!#REF!
Name ZEMELJSKA: '[1]ENERGETSKA SANACIJA '!#REF!
Name ZEMELJSKA: '[1]ENERGETSKA SANACIJA '!#REF!
Name ZEMELJSKA.: '[1]ENERGETSKA SANACIJA '!#REF!
Name ZEMELJSKA.: '[1]ENERGETSKA SANACIJA '!#REF!
Name ZEMELJSKA..: '[1]ENERGETSKA SANACIJA '!#REF!
Name ZEMELJSKA..: '[1]ENERGETSKA SANACIJA '!#REF!
Name ZEMELJSKA_: '[1]ENERGETSKA SANACIJA '!#REF!
Name ZEMELJSKA_: '[1]ENERGETSKA SANACIJA '!#REF!
Name ZEMELJSKA_.: '[1]ENERGETSKA SANACIJA '!#REF!
Name ZEMELJSKA_.: '[1]ENERGETSKA SANACIJA '!#REF!

Sheet REKAPITULACIJA
A1: SONČNA ELEKTRARNA NA T-OBJEKTU | D1: Načrt št:
D2: 6149/24
A3: Post. št.: | B3: Opis: | C3: Znesek upravičeno brez DDV: | D3: Znesek neupravičeno brez DDV:
A4: 1 | B4: ='EI-SE'!B6 -> ELEKTRO INSTALACIJE IN OPREMA | C4: ='EI-SE'!G253 -> 0 | D4: ='EI-SE'!H253 -> 0
A5: 2 | B5: ='EI-SE (2)'!B6 -> STRELOVODNE INSTALACIJE OBJEKTA | C5: ='EI-SE (2)'!G46 -> 0 | D5: ='EI-SE (2)'!H46 -> 0
A6: 3 | B6: =SPLOŠNO!B4 -> SPLOŠNA DELA NA IZVEDBI PROJEKTA | C6: =SPLOŠNO!G61 -> 0 | D6: =SPLOŠNO!H61 -> 0
A9: SKUPAJ UPRAVIČENO BREZ DDV: | C9: =SUM(C4:C6) -> 0
A11: SKUPAJ NEUPRAVIČENO BREZ DDV: | C11: =SUM(D4:D6) -> 0
A13: SKUPAJ UPRAVIČENO IN NEUPRAVIČENO BREZ DDV: | C13: =SUM(C9:D11) -> 0

Sheet EI-SE
A1: SONČNA ELEKTRARNA NA T-OBJEKTU | H1: Načrt št:
H2: =REKAPITULACIJA!D2 -> 6149/24
A3: Post. št.: | B3: Opis: | C3: Enota: | D3: Količina upravičeno: | E3: Količina neupravičeno: | F3: Cena na enoto: | G3: Znesek upravičeno brez DDV: | H3: Znesek neupravičeno brez DDV:
B4: SONČNA ELEKTRARNA NA T OBJEKTU
B6: ELEKTRO INSTALACIJE IN OPREMA
A8: 1 | B8: SONČNA ELEKTRARNA
B9: (dobava in montaža opreme SE, enkovredno ali boljše kot izdelki navedeni v popisu) Navedni proizvodi so namenjeni izdelavi PZI načrta in izračunov, ponudnik lahko ponudi enakovredne ali boljše proizvode, skladno z veljavno zakonodajo in veljavnimi tehničnimi smernicami
A10: 1.1 | B10: Označitev lokacije postavitve opreme sončne elektrarne in kabelskih tras pred postavitvijo podkonstrukcije in panelov sončne elektrarne. Označitev se izvaja na sonovi razporeda opreme iz predmetnega projekta. Odstopnaja in optimizacija postavitve se uskladi s projektantom in nadzornikom | C10: kpl | D10: 1 | G10: =F10*D10 -> 0
A11: 1.2 | B11: Za izvedbo montaže opreme sončne elektrarne, kabelskih tras, kabliranja in izvedbe strelovodne instalacije je potrebno izdelati elaborat montažnih del in potrebne nabave in montaže varnostne opreme za izvedbo montažnih del: - dobava, montaža in demontaža zaščite - lovilne ograje na robu strešne kritine, - dobava in izdelava fiksnih točk za pritrditev jeklenice - za pritrditev varnostnega pasu, - varovalno ograjo za čas izvedbe montaže okoli objekta (vsak del montaže ločeno), vključno z opozorlnimi oznakami in prisotnostjo osebja ob območju varovanja - demontažo in odmik vse predvidene opreme VSE NAVEDENO SE IZVEDE SKLADNO Z IZDELANIM VARNOSTNIM NAČRTOM IN ZAHTEVAMI ZA IZVAJANJE DELA NA LOKACIJI NAROČNIKA | C11: kpl | D11: 6 | G11: =F11*D11 -> 0
A12: 1.3 | B12: Fotovoltaični modul, enkovredno ali boljše kot izdelek Trina Solar Energy, TSM-445 NEG9R.28 | C12: kos | D12: 444 | G12: =F12*D12 -> 0
A13: 1.4 | B13: Podkonstrukcija PV modulov z integriranimi snegolovi za navedene strešne kritine predmetnega objekta:
B14: - strešna kritina izvedena z opečnatimi strešniki - bobrovec | C14: kpl | D14: 8 | G14: =F14*D14 -> 0
B15: - strešna kritina izvedenea iz Al pločevine | C15: kpl | D15: 13 | G15: =F15*D15 -> 0
B16: Podkonstrukcija vključuje vse potrebne elemente za pritrditev nosilnih elementov na navedeno strešno oblogo - konstrukcijo. Cena podkonstrukcije mora vsebovati izdelavo delavniškega načrta podkonstrukcije, kompletni nosilni in vijačni material, porabo dvižne mehanizacije in opreme, montažo opreme na strešno konstrukcijo in vse manipulativne stroške pri izvedbi predmetnih del. V ceno nosilne konstrukcije je potrebno upoštevati tudi integrirane snegolove za posamezne PV panele, razen za zgornjo vrsto panelov proti slemenu. Izvajalec mora predati končno delavniško dokumentacijo konstrukcije v pregled in v arhiv naročnika - PID dokumentacija
A17: 1.5 | B17: Linijski snegolovi z nosilci za strešno kritino izvedene iz Al pločevine, proti prašno barvani v barvi strehe - dobava in montaža pritrdil in linijskega dvojnega snegolova | C17: m | D17: 155 | G17: =F17*D17 -> 0
A18: 1.6 | B18: Optimizatorji delovanja fotovoltaičnega modula, mora biti izbran z izbranim razsmernikom, komplet z dobavo, montažo in nastavitvijo delovanja | C18: kos | D18: 444 | G18: =F18*D18 -> 0
A19: 1.7 | B19: Razsmernik, enkovredno ali boljše kot izdelek SUNGROW SG125CX-P2, komplet z dograditvijo dodatne opreme specificirane v nadaljevanju (modbus, ethernet, wifi, gsm, montažna konzola in pritrditveni material) | C19: kos | D19: 2 | G19: =F19*D19 -> 0
A20: 1.8 | B20: GSM razširitvena kartica | C20: kos | D20: 2 | G20: =F20*D20 -> 0
A21: 1.9 | B21: Wireless gateway and Repeater acess - dostopna točka za povezavo v interno omrežje, originbalna oprema proizvajalca razsmernikov in opreme | C21: kos | D21: 1 | G21: =F21*D21 -> 0
A22: 1.10 | B22: Pogodbena vezava in SIM kartica poljubnega ponudnika mobilni storitev na področju Slovenije | C22: kos | D22: 2 | G22: =F22*D22 -> 0
A23: 1.11 | B23: Konzola za montažo razsmernika in elektro omar s prenapetostnimi odvodniki na steno, skupaj z veznim in pritrdilnim materialom potrebnim za montažo, izdelana iz jeklenih pocinkanih stadnardnih nosilnih profilov in nosilnnih konstrukcijskih elemenotov sistema Sikla Simotec, oz. enakovrednos ali boljše od navedenega sistema. Izvajalec mora izdelati tudi delavniški načrt konstrukcije, ki ga pred izvedbo potrdi naročnik in nadzornik projekta v izvedbi: | C23: kpl | D23: 2 | G23: =F23*D23 -> 0
B24: NOSILEC VZHODNA STENA OBJEKTA (glej grafično prilogo) profil 1 - kvadratna cev 80x80x3 profil 2 - kvadratna cev 80x80x3 profil 3 - kvadratna cev 80x80x3 vezna pločevina - ploč.10 mm streha - pločevina pocinkana 2 mm navojno sidro + kemična masa matica DIN 934, Zn, kvaliteta 8.8 podložka navadna DIN 125A, ZN, jeklo montažni profil SIKLA MS 1/41/2,5 - 3m stenski nosilec police ZNM 500 vijačni material, zvari nepredvidena dela in material Skupaj masa: 210 kg | C24: kos/kpl | D24: 3 4 5 9 1 18 18 18 4 3 0,05 5%
B25: NOSILEC ZAHODNA STENA OBJEKTA (glej grafično prilogo) profil 1 - kvadratna cev 80x80x3 profil 2 - kvadratna cev 80x80x3 profil 3 - kvadratna cev 80x80x3 vezna pločevina - ploč.10 mm streha - pločevina pocinkana 2 mm navojno sidro + kemična masa matica DIN 934, Zn, kvaliteta 8.8 podložka navadna DIN 125A, ZN, jeklo montažni profil SIKLA MS 1/41/2,5 - 4m stenski nosilec police ZNM 500 vijačni material, zvari nepredvidena dela in material Skupaj masa: 260 kg | C25: kos/kpl | D25: 3 4 5 9 1 18 18 18 5 3 1 5
A27: 1.12 | B27: Dobava, izdelava in montaža vijačene jeklene kovinske konstrukcije za dostop na streho vetrolova in zaščitna ograja vetrolova, pocinkane izvedbe in prašno barvane v dogovorjenem RAL_u po izboru naročnika. Izvajalec mora pred izvedbo del na osnovi projekta izdelati delavniško dokumentacijo za izvedbo predmetnih del - posreduje v potrditev naročniku in nadzorniku projekta: - STOPNICE ZA DOSTOP Z DVOSTRANSKO OGRAJO - PODEST STOPNIC Z OGRAJO - OGRAJA STREHE VETROLOVA 1 - OGRAJA STREHE VETROLOVA 2 Stopnice - 368 kg Podest - 234 kg Ograja stopnice - 144 kg Ograja podest - 45 kg Ograja strehe 1 - 68 kg Ograja strehe 2 - 71 kg Navojno sidro + kemična masa M12x150 Navojno sidro + kemična masa M16x200 Navojno sidro + kemična masa M16x300 Vijačni material, zvari - 100 kg SKUPAJ MASA KONSTRUKCIJE: 1544 kg | C27: kpl | D27: 1 | G27: =F27*D27 -> 0
A28: 1.13 | B28: Zagon sončne elektrarne, optimizacija delovanja, izvedba vseh potrebnih nastavitev Vodenje in koordinacija postopkov s predstavniki elektro distributerja Vodenje in koordinacija s predstavniki naročnika Zagon in nastavitev parametrov in optimizacija delovanja Poizkusno obratovanje 30 dni, optimizacija in predaja objekta naročniku Predaja poročilo o delovanju sončne elektrarne v obdobju poizkusnega obratovanja! | C28: kpl | D28: 1 | G28: =F28*D28 -> 0
A30: 2. | B30: STIKALNI BLOKI NOVE SONČNE ELEKTRARNE
A32: 2.1 | B32: STIKALNI BLOK R-SE T-OBJEKT | C32: kpl | D32: 1 | G32: =F32*D32 -> 0
B33: (dobava in montaža opreme stikalnega bloka, enkovredno ali boljše kot izdelki navedeni v nadaljevanju popisa elektro omare)
A35: 2101 | B35: Rf omara dim.800x1200x300mm, s ključavnico in vgrajeno opremo po enopolni shemi: | C35: kpl | D35: 1
A36: 2102 | B36: Prirobnica umetna masa, luknja fi60mm | C36: kos | D36: 1
A37: 2103 | B37: Prirobnica umetna masa, luknja 2x fi60mm | C37: kos | D37: 1
A38: 2104 | B38: Predal za načrte A4 | C38: kpl | D38: 1
A39: 2105 | B39: Nosilec zbiralk 3 polni za sistem 60mm, zbiralke do 30x10mm | C39: kos | D39: 3
A40: 2106 | B40: Prekritje za nosilec zbiralk 60mm, levo in desno | C40: kpl | D40: 1
A41: 2107 | B41: Nosilec zbiralk PE/N, 12-20-30x5-10mm | C41: kos | D41: 2
A42: 2108 | B42: Ploščati baker 30x10mm | C42: m | D42: 4
A43: 2109 | B43: Varovalčni ločilnik NH2 400A, 3 polni, M12 prikljucki na spodnji strani , adapter za 60mm sistem | C43: kos | D43: 1
A44: 2110 | B44: Prekritje priključka za varovalčne ločilnike velikosti 2 | C44: kos | D44: 1
A45: 2111 | B45: Varovalcni locilnik NH1 250A, 3 polni, M10 prikljucki na spodnji strani , adapter za 60mm sistem | C45: kos | D45: 2
A46: 2112 | B46: Prekritje prikljucka za varovalcne letve velikosti 1, odvod iz spodnje strani varovalke | C46: kos | D46: 2
... A59: 2125 | B59: Drobni in vezni instalacijski material (10%) | C59: kpl | D59: 1
A62: 2.2 | B62: STIKALNI BLOK R-SE/PMO T-OBJEKT | C62: kpl | D62: 1 | G62: =F62*D62 -> 0
B63: (dobava in montaža opreme stikalnega bloka, enkovredno ali boljše kot izdelki navedeni v nadaljevanju popisa elektro omare)
A65: 2201 | B65: Prostostoječa kovinska omara dim. 2000x800x500mm s podstavkom 100 mm kpl. s ključavnico elektro distribucije in vgrajeno opremo po enopolni shemi: | C65: kpl | D65: 1
A66: 2202 | B66: Polindirektni trifazni dvosmerni števec delovne in jalove energije z merjeno močjo razreda točnosti B ali 1 za delovno energijo ter 2 za jalovo energijo, s komunikacijskim vmesnikom - za odjemalce in proizvajalce | C66: kos | D66: 1
A67: 2203 | B67: Okence za omarico 190x90mm | C67: kos | D67: 1
A68: 2204 | B68: Predal za načrte A4 | C68: kpl | D68: 1
A69: 2205 | B69: Perforirana DIN letev, 35mm, 1=2000mm | C69: kos | D69: 2
A70: 2206 | B70: Perforiran kanal za ožičenje, RAL7030, 40x60mm (š x v) | C70: m | D70: 4
A71: 2207 | B71: Perforiran kanal za ožičenje, RAL7030, 60x60mm (š x v) | C71: m | D71: 6
A72: 2208 | B72: Nosilec zbiralk 3 polni za sistem 185mm, zbiralke do 120x10mm | C72: kos | D72: 2
A73: 2209 | B73: Distančnik za nosilec zbiralk 185 mm | C73: kpl | D73: 2
A74: 2210 | B74: Prekritje za nosilec zbiralk 185mm, levo in desno | C74: kpl | D74: 1
A75: 2211 | B75: Nosilec zbiralk PE/N, 12-20-30x5-10mm | C75: kos | D75: 2
A76: 2212 | B76: Ploščati baker 30x10mm | C76: m | D76: 3
... A114: 2250 | B114: drobni in vezni instalacijski material (10%) | C114: kpl | D114: 1
A117: 2.3 | B117: STIKALNI BLOK R-DC1 | C117: kpl | D117: 1 | G117: =F117*D117 -> 0
B118: (dobava in montaža opreme stikalnega bloka, enkovredno ali boljše kot izdelki navedeni v nadaljevanju popisa elektro omare)
A120: 2301 | B120: Rf omara dim. 800x1000x300mm, s ključavnico in vgrajeno opremo po enopolni shemi: | C120: kpl | D120: 1
A121: 2302 | B121: Nosilec DIN letve, h=50mm | C121: kos | D121: 4
A122: 2303 | B122: Perforirana DIN letev, 35mm, 1=2000mm | C122: kos | D122: 2
A123: 2304 | B123: Perforiran kanal za ozičenje, RAL7030, 40x60mm (sxv) | C123: m | D123: 6
A124: 2305 | B124: PE zbiralka za uvod vodnikov 16mm2, l=1000mm | C124: kos | D124: 0.5
A125: 2306 | B125: lzolativno stikalo DC, 8 polno z ročico, montaža na DIN letev | C125: kos | D125: 3
A126: 2307 | B126: Varovalcni ločilnik DC 1000V, 2 polni, 32A, ležišče 10x38gG | C126: kos | D126: 9
A127: 2308 | B127: Taljivi vložek gG 10x38, 1000V, 12A | C127: kos | D127: 18
A128: 2309 | B128: Prenapetostni odvodnik DC, 1000V, tip I+II, 3 polni | C128: kos | D128: 9
A129: 2310 | B129: drobni in vezni instalacijski material (10%) | C129: kpl | D129: 1
A132: 2.4 | B132: STIKALNI BLOK R-DC2 | C132: kpl | D132: 1 | G132: =F132*D132 -> 0
B133: (dobava in montaža opreme stikalnega bloka, enkovredno ali boljše kot izdelki navedeni v nadaljevanju popisa elektro omare)
A135: 2401 | B135: Rf omara dim.800x1000x300mm, s ključavnico in vgrajeno opremo po enopolni shemi: | C135: kpl | D135: 1
A136: 2402 | B136: Nosilec DIN letve, h=50mm | C136: kos | D136: 4
A137: 2403 | B137: Perforirana DIN letev, 35mm, 1=2000mm | C137: kos | D137: 2
A138: 2404 | B138: Perforiran kanal za ozičenje, RAL7030, 40x60mm (sxv) | C138: m | D138: 6
A139: 2405 | B139: PE zbiralka za uvod vodnikov 16mm2, 1=1000mm | C139: kos | D139: 1
A140: 2406 | B140: lzolativno stikalo DC, 8 polno z ročico, montaža na DIN letev | C140: kos | D140: 3
A141: 2407 | B141: Varovalcni ločilnik DC 1000V, 2 polni, 32A, ležišče 10x38gG | C141: kos | D141: 10
A142: 2408 | B142: Taljivi vložek gG 10x38, 1000V, 12A | C142: kos | D142: 20
A143: 2409 | B143: Prenapetostni odvodnik DC, 1000V, tip I+II, 3 polni | C143: kos | D143: 10
A144: 2410 | B144: drobni in vezni instalacijski material (10%) | C144: kpl | D144: 1
A147: 3. | B147: KABELSKI RAZVOD
B148: (dobava in polaganje)
B149: Kabli morajo biti izdelani skladno s standardom SIST EN 50575:2014+A1:2016 in z upoštevanjem vzdržnih tokov po IEC HD 60364-5-52. Skladno z uredbo EU 305/2011 (CPR) morajo biti kabli opremljeni z izjavo o lastnostih DoP (Declaration of Performance) - oznaka CE, ki kable razvršča glede na odpornost proti gorenju, sproščanje toplote in širjenje plamena.
B150: Energetski kabel s Cu vodniki, z izolacijo tipa XLPE in plaščem iz PVC - 1kV položen pretežno na kabelske lestve kabelske police. Skladno s standardom SIST EN 50575 mora kabel imeti lastnosti ob požaru najmanj - B2ca-s1, d2, a1
B152: AC razvod
A153: 3001 | B153: kabel FG16OR16 4x150mm2 | C153: m | D153: 190 | G153: =F153*D153 -> 0
A154: 3002 | B154: kabel FG16OR16 4x95mm2 | C154: m | D154: 35 | G154: =F154*D154 -> 0
A155: 3003 | B155: Kabel NHXMH-J 3x1,5mm2 | C155: m | D155: 55 | G155: =F155*D155 -> 0
A156: 3004 | B156: H05V-K 1x95 | C156: m | D156: 95 | G156: =F156*D156 -> 0
A157: 3005 | B157: kabel SFTP cat6a B2ca | C157: m | D157: 240 | G157: =F157*D157 -> 0
B159: DC razvod
A160: 3006 | B160: Vodnik H1Z2Z2-K, črne barve | C160: m | D160: 1580 | G160: =F160*D160 -> 0
A161: 3007 | B161: Vodnik H1Z2Z2-K, rdeče barve | C161: m | D161: 1580 | G161: =F161*D161 -> 0
A164: 4. | B164: OSTALI ELEKTROINŠTALACIJSKI MATERIAL in MONTAŽNA DELA
B165: (dobava in montaža oz. polaganje)
A167: 4001 | B167: Kabelska polica PK100 Rf, z pokrovom ; ravne spojnice, vijaki za montažo na strehi (kpl z nosilci podkonstrukcije) | C167: m | D167: 200 | G167: =F167*D167 -> 0
A168: 4002 | B168: Kabelska polica PK100 Rf v kompletu, kabelska polica, ravne spojnice, vijaki in stenske konzole; pregrada kabelske police; siderni pribor, spojni in vijačni material za montažo na fasado objekta | C168: m | D168: 10 | G168: =F168*D168 -> 0
A169: 4003 | B169: Kabelska polica PK200 Rf s pregrado v kompletu,kabelska polica, ravne spojnice, vijaki in stenske konzole; pregrada kabelske police; siderni pribor, spojni in vijačni material za montažo na fasado objekta | C169: m | D169: 50 | G169: =F169*D169 -> 0
A170: 4004 | B170: Kabelska polica PK400 Rf v kompletu,kabelska polica, ravne spojnice, vijaki in stenske konzole; pregrada kabelske police; siderni pribor, spojni in vijačni material za montažo na fasado objekta | C170: m | D170: 12 | G170: =F170*D170 -> 0
A171: 4005 | B171: Plastični kvadro kanal raznih dimenzij | C171: m | D171: 10 | G171: =F171*D171 -> 0
...

Sheet EI-SE (2)
A1: SONČNA ELEKTRARNA NA T-OBJEKTU | H1: Načrt št:
H2: =REKAPITULACIJA!D2 -> 6149/24
A3: Post. št.: | B3: Opis: | C3: Enota: | D3: Količina upravičeno: | E3: Količina neupravičeno: | F3: Cena na enoto: | G3: Znesek upravičeno brez DDV: | H3: Znesek neupravičeno brez DDV:
B4: SONČNA ELEKTRARNA NA T OBJEKTU
B6: STRELOVODNE INSTALACIJE OBJEKTA
A8: 1. | B8: SONČNA ELEKTRARNA
B9: (dobava in montaža opreme strelovodne instalacije, enkovredno ali boljše navedeni izdelki popisa strelovodne instalacije)
A11: 1001 | B11: Ploščati vodnik 30x3,5 mm | C11: m | E11: 110 | H11: =F11*E11 -> 0
A12: 1002 | B12: Al vodnik fi 8 mm | C12: m | D12: 30 | G12: =F12*D12 -> 0
A13: 1003 | B13: Izoliran strelovodni vodnik ISVH (III in IV zaščitni nivo; 100kA amplitudna vrednost toka strele) | C13: m | D13: 30 | G13: =F13*D13 -> 0
A14: 1004 | B14: Strešna podpora za Al vodnik | C14: kom | D14: 30 | G14: =F14*D14 -> 0
A15: 1005 | B15: Vezna sponka Rf | C15: kom | D15: 16 | G15: =F15*D15 -> 0
A16: 1006 | B16: Križna sponka Rf | C16: kom | D16: 26 | G16: =F16*D16 -> 0
A17: 1007 | B17: Žica H05V-K 16 mm2 | C17: m | D17: 960 | G17: =F17*D17 -> 0
A18: 1008 | B18: Žica H05V-K 35 mm2 | C18: m | D18: 260 | G18: =F18*D18 -> 0
A19: 1009 | B19: Žica H05V-K 50 mm2 | C19: m | D19: 30 | G19: =F19*D19 -> 0
A20: 1010 | B20: Zbiralka za izenačevanje potencialov, 210x30x3mm (DxŠxV), za izenačevanje potencialov in povezav na ozemljitev | C20: kom | D20: 1 | G20: =F20*D20 -> 0
A21: 1011 | B21: Zbiralka za izenačevanje potencialov, 300x50x75 (DxŠxV), za glavno izenačevanje potencialov in povezav na ozemljitev | C21: kom | D21: 4 | G21: =F21*D21 -> 0
A22: 1012 | B22: Al lovilna palica dolžine 1m; pritrdilni komlet; prostostoječa montaža na pločevinaste kritine | C22: kpl | D22: 14 | G22: =F22*D22 -> 0
A23: 1013 | B23: Al lovilna palica 2m; pritrdilni komlet; prostostoječa montaža na pločevinaste kritine | C23: kpl | D23: 2 | G23: =F23*D23 -> 0
... A26: 1016 | B26: Drobni in vezni instalacijski material (10%) | C26: kpl | D26: 1 | G26: =F26*D26 -> 0
A29: 2. | B29: GRADBENA DELA
A30: 2.001 | B30: Zakoličba - označitev trase obstoječih vodov vkopanih v zemlji (vodovod, kanalizacija, elelektro instalacije, telekomunikacije,…) | C30: kpl | E30: 2 | H30: =F30*E30 -> 0
A31: 2002 | B31: Strojno rezanje asfaltne površine debeline 12 cm | C31: m | E31: 55 | H31: =F31*E31 -> 0
A32: 2003 | B32: Strojno ročni izkop označene trase izkopa, deponiranje izkopanega materiala v neposredni bližini izvedbe izkopa, zavarovano - ločevanje asfalta in zemljine globina izkopa 80 cm, širine 50cm | C32: m3 | E32: 44 | H32: =F32*E32 -> 0
A33: 2004 | B33: Zasutje jarka z novo zemljino po polaganju valjanca | C33: m3 | E33: 24 | H33: =F33*E33 -> 0
A34: 2005 | B34: Zasutje jarka z obstoječim izkopanim materialom | C34: m | E34: 22 | H34: =F34*E34 -> 0
A35: 2006 | B35: Odvoz odvečnega materiala na deponijo, plačilo takse in prevoznih stroškov, predložitev potrdila o predaji odpadka | C35: m3 | E35: 20 | H35: =F35*E35 -> 0
A36: 2007 | B36: Asfaltiranje izkopane povšine - utrjevanje po plasteh, priprava na sfaltiranje in izvedba asfaltiranja, zalivanje spojev z bitumensko maso | C36: m2 | E36: 38 | H36: =F36*E36 -> 0
A37: 2008 | B37: Gradbeno čiščenje po končanju del in med izvajanjem del | C37: kpl | E37: 1 | H37: =F37*E37 -> 0
A38: 2009 | B38: Zaščita delovišča, oznake, ureditev obvoza in obhoda - postavitev in demontaža | C38: kpl | E38: 1 | H38: =F38*E38 -> 0
A39: 2010 | B39: Splošni manipualtivni in trasnportni stroški | C39: kpl | E39: 1 | H39: =F39*E39 -> 0
A42: 3. | B42: NEPREDVIDENA DELA (5%) | C42: kpl | D42: 1 | G42: =ROUND(SUM(G11:G39)*5%,1) -> 0 | H42: =ROUND(SUM(H11:H39)*5%,1) -> 0
B46: SKUPAJ - VREDNOST BREZ DDV: | G46: =SUM(G6:G45) -> 0 | H46: =SUM(H6:H45) -> 0
B48: SKUPAJ UPRAVIČENO IN NEUPRAVIČENO: | G48: =SUM(G46:H46) -> 0

Sheet SPLOŠNO
A1: SONČNA ELEKTRARNA NA T-OBJEKTU | H1: Načrt št:
H2: =REKAPITULACIJA!D2 -> 6149/24
A3: Post. št.: | B3: Opis: | C3: Enota: | D3: Količina upravičeno: | E3: Količina neupravičeno: | F3: Cena na enoto: | G3: Znesek upravičeno brez DDV: | H3: Znesek neupravičeno brez DDV:
B4: SPLOŠNA DELA NA IZVEDBI PROJEKTA
B6: Vsi sklopi - elementi elektroinštalacijskih del morajo biti izdelani strokovno in kvalitetno po detajlih in materiali kot je navedeno v opisu. Ves vgrajeni material mora biti nov in po kvaliteti ustrezati veljavnim tehničnim standardom in predpisom.
B8: ENOTNA CENA MORA VSEBOVATI:
B9: - vsa potrebna pripravljalna dela
B10: - vse potrebne transporte, notranje in zunanje
B11: - vse potrebno delo za montažo
B12: - vsa potrebna dela za montažo razdelilnikov
B13: - vsa potrebna pomožna sredstva za montažna dela na na objektu ( ustrezne lestve, odri in delovna oprema)
B14: - usklajevanje montažnih del s PZI dokumentacijo in koordinacija s projektantom, nadzornikom, investitorjem, naročnikom…
B15: - terminsko usklajevanje del
B16: - čiščenje delovišča med gradnjo in po končanih delih
B17: - odvoz odpadnega materiala na stalno komunalno deponijo
... B36: V popisih posameznega razdelilnika je navedena ustrezna oprema. Lahko se v soglasju s projektantom in pooblaščenim predstavnikom naročnika uporabi druga oprema, ki pa mora v polnosti ustrezati najmanj popisani opremi. V primeru večje spremembe je ptrebno dopolniti oz. spremeniti PZI načrt, ki ga mora potrditi projektant. Vse dimenzijske spremembe mora potrditi projektant.
A37: 1. | B37: Ponudnik lahko ponudi del naprave ki sicer delno odstopa zahtevam iz tehničnega opisa in popisa (kapaciteta, priključki, mere), vendar mora ustrezati zahtevanim tehničnim karatkteristikam v razpisni dokumentaciji, zagotoviti mora povezljivosti in možnosti vzdrževanja in upravljanja, kar pa lahko posledično vpliva na razpisna GOI in ostala dela. V tem primeru ponudnik v fazi izvedbe del na svoje stroške zagotovi morebitno spremembo projketne dokumentacije, ter morebitno spremembo pripadajočih gradbeno obrtniških, instalacijaskih, programskih in drugih del, kar pa mora biti zajeto že v ponudbeni ceni.
B38: Po podpisu pogodbe mora izbrani ponudnik predstavniku naročnika za vso ponujeno opremo predati vse iz tehničnega poročila in popisa zahtevane tehnične podatke, risbe in dokazila s potrdili o ustreznosti. Zahtevana dokumentacija se mora nanšati na ponujeni tip, velikost in zmogljivost, ne le na vrsto opreme, pri čemer je potrebno upoštevati, da splošne informacije iz katalogov niso primerne.
B39: Na podlagi ponujene - izbrane opreme in skladno z dinamiko gradnje mora izbrani ponudnik izdelati montažne risbe in postavitvene detajle za potrebe izvedbe na gradbišču, ter sproti usklajevati le te z izvajalci drugih strok na projektu.
B40: Izvajalec mora sodelovati s svojimi podizvajalci in dobavitelji opreme pri uskaditvi vseh detajlov, pri pripravi in izdelavi vseh potrebnih algoritmov in medsebojnih odvisnosti za obratovanje samega ponujenega sklopa in obstoječega sistema kot celote, pri čemer je poudarek na izvajalcih elektro krmilnega in programskega dela in nadzornega sistema s komunikacijami.
B41: Na podlagi časovnega načrta del mora izvajalec izdelati načrt montaže in organizacije gradbišča, ki mora biti potrjen s strani vseh udeležencev gradnje. Navedeno mora biti usklajeno z naročnikom.
A43: 2. | B43: Izvajalec izdela navodila za obratovanje in vzdrževanje v štirih izvodih, ter digitalni obliki (Word, Excel, acad). Navodila se izdelajo pred šolanjem osebja in se do predaje objekta še eventuelno dopolnijo. | C43: kpl | D43: 1 | G43: =F43*D43 -> 0
A44: 3. | B44: Izvajalec mora izvesti vse zagone pomembnejših naprav s strani pooblaščenih serviserjev, le ti morajo sodelovati pri garancijskih meritvah in usposabljanju osebja. | C44: kpl | D44: 1 | G44: =F44*D44 -> 0
A45: 4. | B45: Izvajalec izvede usposabljanje-šolanje upravljavskega kadra za ravnanje s postrojem. Program mora biti tematsko razdeljen na upravljanje, odkrivanje napak, pregledih (dnevni, tedenski, mesečni, letni), vplivih na okolje in preprečevanje okoljskih nesreč. Naročnik mora pred usposabljanjem potrditi predlog programa in določiti pooblaščene predstavnike. Po uspešno opravljanem šolanju se sestavi zapisnik, katerega podpiše izvajalec in naročnik. | C45: kpl | D45: 1 | G45: =F45*D45 -> 0
A46: 5. | B46: Pripravljalna in končna dela, prevozni in manuipulativni stroški, stroški zavarovanja, splošni stroški kot oragnizacija zapor zaradi gradnje-montaž, avtodvigal, čiščenje gradbišča… . | C46: kpl | D46: 1 | G46: =F46*D46 -> 0
A47: 6. | B47: Natavitve opreme in funkcionalni preizkus posameznih sistemov, pregled s strani pooblaščenih institucij ( protipožarna zaščita), označevanje kablov, razdelilcev in opreme (z trajnimi oznakami- usklajeno z PID) | C47: kpl | D47: 1 | G47: =F47*D47 -> 0
A48: 7. | B48: Nastavitve opreme in sistema, Izdelava zapisnikov in meritev pretokov z poročili | C48: kpl | D48: 1 | G48: =F48*D48 -> 0
A49: 8. | B49: Izdelava kratkih navodil in shem za obratovanje - sistemska navodila s shemami | C49: kpl | D49: 1 | G49: =F49*D49 -> 0
A50: 9. | B50: Predaja sistema naročniku upoštevajoč dejansko proizvodno dinamiko in odjem in tudi vse kasnejše nastavitve (s spremembami regulacijskih algoritmov), ki se pokažejo za potrebne v realnem obratovanju (po predaji) sistema v cilju doseganja s projektom zahtevanih učinkovitosti (optimizacija do dosega optimalnega obratovanja) - časovno določeno skladno z izvajalsko pogodbo. | C50: kpl | D50: 1 | G50: =F50*D50 -> 0
A51: 10. | B51: Organizacija gradbišča skladno z izdelano dokumentacijo varnostnega načrta. Priprava vseh potrebnih zaščitnih ukrepov in omejitev prehoda obiskovalcev na področju Splošne bolnišnice Celje v času izvajanja projekta. Izvajalec mora zagtoviti in ustrezno postaiti vse opozorilne table in označene smeri prehoda. V času uporabe dvižne mehanizacije mora zagotoviti varnost pri izvajanju del in zaščito delovnega območja stroja in izvajanja montažnih del. Vse navedene aktivnosti je potrebno uskladiti s predtsavnikom naročnika - varnostni inženir/-ka. | C51: kpl | D51: 1 | G51: =F51*D51 -> 0
A52: 11. | B52: Izvajalec mora za izvedbo montažnih del zagotoviti ustrezno dvižno mehanizacijo in opemo, ki je zakonsko dovoljena za uporabo izvedbe tovrstnih montažnih del: - avtodvigalo, - škarjaste dvižne etaže, - dvižne košare, - dvižni sistemi za izvajanje transporta opreme, - odri in lestve, - osebna varovalna oprema,.... | C52: kpl | D52: 1 | G52: =F52*D52 -> 0
A53: 12. | B53: Demobilizacija gradbišča, ureditev površin v prvotno stanje, odstranitev vseh označb, gradbiščnih ograj in opozorilnih oznak postavljenih v času gradnje. | C53: kpl | D53: 1 | G53: =F53*D53 -> 0
A54: 13. | B54: PREGLED, PREIZKUS IN MERITVE ZAŠČITE PROTI UDARU ELEKTRIČNEGA TOKA, IZOLACIJSKE TRDNOSTI KABELSKIH VODNIKOV, GALVANSKIH POVEZAV KOVINSKIH MAS TER IZDAJA USTREZNE DOKUMENTACIJE V SKLADU S PREDPISI IN PROTOKOLI, OPRAVI NPK PREGLEDNIK Z CERTIFIKATOM ZA ZAHTEVNE OBJEKTE | C54: kpl | D54: 1 | G54: =F54*D54 -> 0
... A57: 16. | B57: IZDELAVA PID NAČRTA ELEKTRIČNIH INŠTALACIJ | C57: kpl | D57: 1 | G57: =F57*D57 -> 0
A58: 17. | B58: NEPREDVIDENA DELA - 5% | C58: kpl | D58: 1 | G58: =ROUND(SUM(G42:G57)*5%,1) -> 0
B61: SKUPAJ - VREDNOST BREZ DDV: | G61: =SUM(G5:G59) -> 0 | H61: =SUM(H5:H59) -> 0
B63: SKUPAJ UPRAVIČENO IN NEUPRAVIČENO: | G63: =SUM(G61:H61) -> 0
