Workbook

Sheet izračun
A1: 1. število udeležencev (ŠU) | B1: 2. zdravstveno tveganje (ZT) | C1: 2_rezultat | D1: 3. tveganje za dogodke (TD) | E1: 3_rezultat | F1: 4. posebne okoliščine (PO) | G1: 4_rezultat | H1: skupaj | I1: izračun prireditve | J1: izvajalci zdravstvenega varstva
A2: a) <500 | B2: a) >70% udeležencev pod 50 let | C2: =VLOOKUP(B2,'zdravstveno tveganje'!A1:B4,2) -> nizko | D2: c) Možnost nekotroliranega ali škodljivega oz. nasilnega ravnanja udeležencev | E2: =VLOOKUP(D2,'tveganje za prireditve'!A1:B5,2) -> visoko | F2: a) Prireditev se odvija na različnih mestih oz. poteka prireditve ni možno vnaprej natančno oceniti zaradi nepredvidljivega obnašanja udeležencev | G2: =VLOOKUP(F2,posebnosti!A1:B4,2) -> DA | H2: =A2&"|"&C2&"|"&E2&"|"&G2 -> a) <500|nizko|visoko|DA | I2: =VLOOKUP(H2,'tipi prireditev2'!A1:B96,2,FALSE) -> manj zahtevna prireditev B | J2: =VLOOKUP(I2,'izvajalci zdravstvenega varstva'!A2:B15,2) -> Prisotnost najmanj ene MoE NRV.
A4: Navodilo za izpolnjevanje | B4: Kliknite v polje pod oštevilčeno kategorijo in s puščico v spodnjem desnem kotu izberite trditev.
B5: V točki 1 določite pričakovano število udeležencev prireditve
B6: V točki 2 izberite eno izmed trditev, ki velja za udeležence prireditev
B7: V točki 3 izberite eno izmed trditev, ki najbolj velja za izračun tveganja za dogodke na prireditvi
B8: V točki 4 izberite trditev, ki njabolj velja za izračun posebnih dogodkov, ki veljajo za prireditev
B9: Za prikaz izračuna morajo biti izpolnjena vsa štiri zgoraj predvidena polja!
A11: Vaša prireditev je | B11: =IFERROR(VLOOKUP(H2,'tipi prireditev2'!A1:B96,2,FALSE),"") -> manj zahtevna prireditev B
A12: potrebno zdravstveno varstvo | B12: =IFERROR(VLOOKUP(I2,'izvajalci zdravstvenega varstva'!A2:B14,2),"") -> Prisotnost najmanj ene MoE NRV.

Sheet tipi prireditev1
A1: število | B1: zdravstveno tveganje | C1: druga tveganja | D1: posebnosti | E1: rezultat | F1: prireditev
A2: <500 | B2: visoko | C2: nizko | D2: DA | E2: =A2&"|"&B2&"|"&C2&"|"&D2 -> <500|visoko|nizko|DA | F2: nezahtevna prireditev A
A3: <500 | B3: visoko | C3: nizko | D3: NE | E3: =A3&"|"&B3&"|"&C3&"|"&D3 -> <500|visoko|nizko|NE | F3: nezahtevna prireditev A
A4: <500 | B4: srednje | C4: nizko | D4: DA | E4: =A4&"|"&B4&"|"&C4&"|"&D4 -> <500|srednje|nizko|DA | F4: nezahtevna prireditev A
A5: <500 | B5: srednje | C5: nizko | D5: NE | E5: =A5&"|"&B5&"|"&C5&"|"&D5 -> <500|srednje|nizko|NE | F5: nezahtevna prireditev A
A6: <500 | B6: nizko | C6: nizko | D6: DA | E6: =A6&"|"&B6&"|"&C6&"|"&D6 -> <500|nizko|nizko|DA | F6: nezahtevna prireditev A
A7: <500 | B7: nizko | C7: nizko | D7: NE | E7: =A7&"|"&B7&"|"&C7&"|"&D7 -> <500|nizko|nizko|NE | F7: nezahtevna prireditev A
A8: 500-999 | B8: srednje | C8: nizko | D8: DA | E8: =A8&"|"&B8&"|"&C8&"|"&D8 -> 500-999|srednje|nizko|DA | F8: nezahtevna prireditev B
A9: 500-999 | B9: srednje | C9: nizko | D9: NE | E9: =A9&"|"&B9&"|"&C9&"|"&D9 -> 500-999|srednje|nizko|NE | F9: nezahtevna prireditev B
A10: 500-999 | B10: nizko | C10: nizko | D10: DA | E10: =A10&"|"&B10&"|"&C10&"|"&D10 -> 500-999|nizko|nizko|DA | F10: nezahtevna prireditev B
A11: 500-999 | B11: nizko | C11: nizko | D11: NE | E11: =A11&"|"&B11&"|"&C11&"|"&D11 -> 500-999|nizko|nizko|NE | F11: nezahtevna prireditev B
A12: 1000-3000 | B12: srednje | C12: nizko | D12: NE | E12: =A12&"|"&B12&"|"&C12&"|"&D12 -> 1000-3000|srednje|nizko|NE | F12: manj zahtevna prireditev A
A13: 1000-3000 | B13: nizko | C13: nizko | D13: NE | E13: =A13&"|"&B13&"|"&C13&"|"&D13 -> 1000-3000|nizko|nizko|NE | F13: manj zahtevna prireditev A
... A97: 20000-30000 | B97: nizko | C97: visoko | D97: NE | E97: =A97&"|"&B97&"|"&C97&"|"&D97 -> 20000-30000|nizko|visoko|NE | F97: zelo zahtevna prireditev

Sheet tipi prireditev2
A1: a) <500|nizko|nizko|DA | B1: nezahtevna prireditev A
A2: a) <500|nizko|nizko|NE | B2: nezahtevna prireditev A
A3: a) <500|nizko|visoko|DA | B3: manj zahtevna prireditev B
A4: a) <500|nizko|visoko|NE | B4: manj zahtevna prireditev B
A5: a) <500|srednje|nizko|DA | B5: nezahtevna prireditev A
A6: a) <500|srednje|nizko|NE | B6: nezahtevna prireditev A
A7: a) <500|srednje|visoko|DA | B7: manj zahtevna prireditev B
A8: a) <500|srednje|visoko|NE | B8: manj zahtevna prireditev B
A9: a) <500|visoko|nizko|DA | B9: nezahtevna prireditev A
A10: a) <500|visoko|nizko|NE | B10: nezahtevna prireditev A
A11: a) <500|visoko|visoko|DA | B11: manj zahtevna prireditev B
A12: a) <500|visoko|visoko|NE | B12: manj zahtevna prireditev B
... A96: h) >30.000|visoko|visoko|NE | B96: tvegana prireditev A

Sheet izvajalci zdravstvenega varstva
A1: tip | B1: opis | C1: ekipa | D1: kje se prijasvi | E1: načrt
A2: manj zahtevna prireditev A | B2: Prisotnost najmanj ene ekipe za izvajanje nenujnih prevozov, v skladu s tem pravilnikom. | C2: RV | D2: policija | E2: NE
A3: manj zahtevna prireditev A+ | B3: Prisotnost najmanj ene ekipe za izvajanje nenujnih prevozov, v skladu s tem pravilnikom in zaradi posebnih okoliščin še dodaten zdravstveni reševalec ali dodatna ekipa za izvajanje nenujnih prevozov. | C3: RV+ZR
A4: manj zahtevna prireditev B | B4: Prisotnost najmanj ene MoE NRV. | C4: NRV | D4: policija | E4: NE
A5: manj zahtevna prireditev B+ | B5: Prisotnost najmanj ene MoE NRV in zaradi posebnih okoliščin še dodaten zdravstveni reševalec ali dodatna ekipa za izvajanje nenujnih prevozov. | C5: NRV+ZR | D5: UE | E5: NE
A6: nezahtevna prireditev A | B6: Posebno zdravstveno varstvo ni potrebno, razen če organizator ali uradni organ glede na vrsto in program prireditve presodi drugače. | C6: NI | D6: policija | E6: NE
A7: nezahtevna prireditev B | B7: Prisotnost najmanj ene osebe s strani organizatorja, ki ima opravljen najmanj 8- urni tečaj prve pomoči, ki ni starejši od petih let in vključuje znanja in veščine temeljnih postopkov oživljanja in ima za nudenje prve pomoči pri sebi komplet za prvo pomoč, ki je del obvezne opreme motornih vozil. | C7: PP | D7: policija | E7: NE
A8: srednje zahtevna prireditev A | B8: Prisotnost najmanj ene MoE NRV z zdravnikom. | C8: NRV z zdravnikom | D8: UE | E8: DA
A9: srednje zahtevna prireditev A+ | B9: Prisotnost najmanj ene MoE NRV z zdravnikom in zaradi posebnih okoliščin še dodaten zdravstveni reševalec ali dodatna ekipa za izvajanje nenujnih prevozov. | C9: NRV z zdravnikom+ZR
A10: srednje zahtevna prireditev B | B10: Prisotnost najmanj ene MoE NRV z zdravnikom in ene MoE NRV. | C10: NRV z zdravnikom+NRV | D10: UE | E10: DA
A11: tvegana prireditev A | B11: Vsaj eno delovišče zdravstvene obravnave z zdravnikom in diplomiranim zdravstvenikom ter najmanj dveh MoE NRV z zdravnikom in treh MoE NRV. Število ekip se prilagodi stopnji tveganja. | C11: del (dr+dipl)+2REA+3NRV | D11: UE | E11: DA
A12: tvegana prireditev B | B12: Vsaj eno delovišče zdravstvene obravnave z zdravnikom in diplomiranim zdravstvenikom ter najmanj ene MoE NRV z zdravnikom in ene MoE NRV v vsaki coni oziroma na vsakem prizorišču, kjer je 10000 udeležencev. Ekipe se nahajajo na v naprej določenih točkah po načrtu. | C12: del (dr+dipl)+1REA+1NRV*v vsaki coni | D12: UE | E12: DA
A13: zahtevna prireditev | B13: Prisotnost najmanj ene MoE NRV z zdravnikom in dveh MoE NRV. | C13: REA+2NRV | D13: UE | E13: DA
A14: zelo zahtevna prireditev A | B14: Vsaj eno delovišče zdravstvene obravnave z zdravnikom in diplomiranim zdravstvenikom ter najmanj ene MoE NRV z zdravnikom in dveh MoE NRV. | C14: del(dr+dipl)+1REA+2NRV | D14: UE | E14: DA
A15: zelo zahtevna prireditev B | B15: Vsaj eno delovišče zdravstvene obravnave z zdravnikom in diplomiranim zdravstvenikom ter najmanj dveh MoE NRV z zdravnikom in dveh MoE NRV. Število ekip se prilagodi stopnji tveganja. | C15: del(dr+dipl)+2REA+2NRV+prilagoditev | D15: UE | E15: DA

Sheet število udeležencev
A1: število
A2: a) <500
A3: b) 500-999
A4: c) 1.000-3.000
A5: d) 3.000-5.000
A6: e) 5.000-10.000
A7: f) 10.000-20.000
A8: g) 20.000-30.000
A9: h) >30.000

Sheet zdravstveno tveganje
A1: a) >70% udeležencev pod 50 let | B1: nizko
A2: b) > 30% oseb starejših od 65 let | B2: srednje
A3: c) >50% starejših od 65 let | B3: visoko
A4: d) enakovredna porazdelitev starostnih skupin, kjer je > 30% oseb starejših od 65 let | B4: srednje
A5: e) prisotne zdravstveno ogrožene skupine ljudi | B5: visoko | C5: *prisotni udeleženci z večjim zdravstvenim tveganjem

Sheet tveganje za prireditve
A1: a) Uporaba predmetov in naprav, ki lahko ogrožajo zdravje in/ali življenje udeležencev | B1: visoko
A2: b) Izvajanje aktivnosti s hujšimi telesnimi obremenitvami udeležencev | B2: visoko
A3: c) Možnost nekotroliranega ali škodljivega oz. nasilnega ravnanja udeležencev | B3: visoko | C3: *alkohol, droge??
A4: d) Možnost poškodbe udeležencev | B4: visoko
A5: e) Nič od zgoraj naštetega | B5: nizko

Sheet posebnosti
A1: a) Prireditev se odvija na različnih mestih oz. poteka prireditve ni možno vnaprej natančno oceniti zaradi nepredvidljivega obnašanja udeležencev | B1: DA | C1: *pogoj se upošteva samo za dogodke nad 20000 udeležencev
A2: b) Prireditev je od najbližjega izvajalca službe NMP oddaljena več kot 15 minut vožnje | B2: DA
A3: c) Prireditve se ob morebitnem transportu pacienta v nadaljnjo zdravstveno obravnavo ne sme ali ne želi prekiniti. | B3: DA
A4: d) Nič od zgoraj naštetega | B4: NE
